Package: Hiiragi2013 Version: 1.46.0 Command: /home/biocbuild/bbs-3.22-bioc/R/bin/R CMD INSTALL Hiiragi2013 StartedAt: 2025-11-18 10:58:13 -0500 (Tue, 18 Nov 2025) EndedAt: 2025-11-18 10:58:31 -0500 (Tue, 18 Nov 2025) EllapsedTime: 18.5 seconds RetCode: 0 Status: OK