Package: Hiiragi2013 Version: 1.46.0 Command: /home/biocbuild/bbs-3.22-bioc/R/bin/R CMD build --keep-empty-dirs --no-resave-data Hiiragi2013 StartedAt: 2025-11-18 11:37:59 -0500 (Tue, 18 Nov 2025) EndedAt: 2025-11-18 11:43:43 -0500 (Tue, 18 Nov 2025) EllapsedTime: 343.7 seconds RetCode: 0 Status: OK PackageFile: Hiiragi2013_1.46.0.tar.gz PackageFileSize: 139.1 MiB