Package: HiBED Version: 1.8.0 Command: /home/biocbuild/bbs-3.22-bioc/R/bin/R CMD INSTALL HiBED StartedAt: 2025-11-04 11:04:03 -0500 (Tue, 04 Nov 2025) EndedAt: 2025-11-04 11:04:46 -0500 (Tue, 04 Nov 2025) EllapsedTime: 42.3 seconds RetCode: 0 Status: OK