Package: HiBED Version: 1.8.0 Command: /home/biocbuild/bbs-3.22-bioc/R/bin/R CMD build --keep-empty-dirs --no-resave-data HiBED StartedAt: 2025-10-30 11:31:03 -0400 (Thu, 30 Oct 2025) EndedAt: 2025-10-30 11:32:34 -0400 (Thu, 30 Oct 2025) EllapsedTime: 90.7 seconds RetCode: 0 Status: OK PackageFile: HiBED_1.8.0.tar.gz PackageFileSize: 40.93 KiB