Package: HSMMSingleCell Version: 1.29.0 Command: /home/biocbuild/bbs-3.22-bioc/R/bin/R CMD INSTALL HSMMSingleCell StartedAt: 2025-10-23 11:05:37 -0400 (Thu, 23 Oct 2025) EndedAt: 2025-10-23 11:05:39 -0400 (Thu, 23 Oct 2025) EllapsedTime: 1.2 seconds RetCode: 0 Status: OK