Package: HMP2Data Version: 1.23.0 Command: /home/biocbuild/bbs-3.22-bioc/R/bin/R CMD INSTALL HMP2Data StartedAt: 2025-10-02 11:01:45 -0400 (Thu, 02 Oct 2025) EndedAt: 2025-10-02 11:02:22 -0400 (Thu, 02 Oct 2025) EllapsedTime: 37.7 seconds RetCode: 0 Status: OK