Package: HMP2Data Version: 1.23.0 Command: /home/biocbuild/bbs-3.22-bioc/R/bin/R CMD build --keep-empty-dirs --no-resave-data HMP2Data StartedAt: 2025-10-02 11:24:05 -0400 (Thu, 02 Oct 2025) EndedAt: 2025-10-02 11:25:17 -0400 (Thu, 02 Oct 2025) EllapsedTime: 71.7 seconds RetCode: 0 Status: OK PackageFile: HMP2Data_1.23.0.tar.gz PackageFileSize: 5.147 MiB