Package: HMP16SData Version: 1.30.0 Command: /home/biocbuild/bbs-3.22-bioc/R/bin/R CMD INSTALL HMP16SData StartedAt: 2025-11-20 10:58:39 -0500 (Thu, 20 Nov 2025) EndedAt: 2025-11-20 10:59:14 -0500 (Thu, 20 Nov 2025) EllapsedTime: 34.3 seconds RetCode: 0 Status: OK