Package: HD2013SGI Version: 1.49.0 Command: /home/biocbuild/bbs-3.22-bioc/R/bin/R CMD INSTALL HD2013SGI StartedAt: 2025-10-02 10:57:52 -0400 (Thu, 02 Oct 2025) EndedAt: 2025-10-02 10:58:07 -0400 (Thu, 02 Oct 2025) EllapsedTime: 14.8 seconds RetCode: 0 Status: OK