Package: GWASdata Version: 1.48.0 Command: /home/biocbuild/bbs-3.22-bioc/R/bin/R CMD INSTALL GWASdata StartedAt: 2025-11-20 11:05:21 -0500 (Thu, 20 Nov 2025) EndedAt: 2025-11-20 11:05:31 -0500 (Thu, 20 Nov 2025) EllapsedTime: 9.6 seconds RetCode: 0 Status: OK