Package: DoReMiTra Version: 1.0.0 Command: /home/biocbuild/bbs-3.22-bioc/R/bin/R CMD INSTALL DoReMiTra StartedAt: 2025-11-06 11:02:02 -0500 (Thu, 06 Nov 2025) EndedAt: 2025-11-06 11:02:28 -0500 (Thu, 06 Nov 2025) EllapsedTime: 26.1 seconds RetCode: 0 Status: OK