Package: DNAZooData Version: 1.10.0 Command: /home/biocbuild/bbs-3.22-bioc/R/bin/R CMD build --keep-empty-dirs --no-resave-data DNAZooData StartedAt: 2025-10-30 11:21:12 -0400 (Thu, 30 Oct 2025) EndedAt: 2025-10-30 11:21:57 -0400 (Thu, 30 Oct 2025) EllapsedTime: 44.9 seconds RetCode: 0 Status: OK PackageFile: DNAZooData_1.10.0.tar.gz PackageFileSize: 235.7 KiB