Package: DLBCL Version: 1.49.0 Command: /home/biocbuild/bbs-3.22-bioc/R/bin/R CMD INSTALL DLBCL StartedAt: 2025-10-21 10:56:22 -0400 (Tue, 21 Oct 2025) EndedAt: 2025-10-21 10:56:27 -0400 (Tue, 21 Oct 2025) EllapsedTime: 5.2 seconds RetCode: 0 Status: OK