Package: ChIPexoQualExample Version: 1.34.0 Command: /home/biocbuild/bbs-3.22-bioc/R/bin/R CMD check --install=check:ChIPexoQualExample.install-out.txt --library=/home/biocbuild/bbs-3.22-bioc/R/site-library --timings ChIPexoQualExample_1.34.0.tar.gz StartedAt: 2025-11-25 12:06:10 -0500 (Tue, 25 Nov 2025) EndedAt: 2025-11-25 12:06:30 -0500 (Tue, 25 Nov 2025) EllapsedTime: 20.3 seconds RetCode: 0 Status: OK CheckDir: ChIPexoQualExample.Rcheck Warnings: 0