Package: ChAMPdata Version: 2.42.0 Command: /home/biocbuild/bbs-3.22-bioc/R/bin/R CMD INSTALL ChAMPdata StartedAt: 2025-11-20 11:01:19 -0500 (Thu, 20 Nov 2025) EndedAt: 2025-11-20 11:01:27 -0500 (Thu, 20 Nov 2025) EllapsedTime: 7.8 seconds RetCode: 0 Status: OK