Package: ChAMPdata Version: 2.42.0 Command: /home/biocbuild/bbs-3.22-bioc/R/bin/R CMD build --keep-empty-dirs --no-resave-data ChAMPdata StartedAt: 2025-11-20 11:11:00 -0500 (Thu, 20 Nov 2025) EndedAt: 2025-11-20 11:11:50 -0500 (Thu, 20 Nov 2025) EllapsedTime: 50.6 seconds RetCode: 0 Status: OK PackageFile: ChAMPdata_2.42.0.tar.gz PackageFileSize: 667.1 MiB