Package: CENTREprecomputed Version: 0.99.3 Command: /home/biocbuild/bbs-3.22-bioc/R/bin/R CMD INSTALL CENTREprecomputed StartedAt: 2025-09-25 10:57:37 -0400 (Thu, 25 Sep 2025) EndedAt: 2025-09-25 10:57:51 -0400 (Thu, 25 Sep 2025) EllapsedTime: 13.5 seconds RetCode: 0 Status: OK