Package: AssessORFData Version: 1.28.0 Maintainer: Nicholas Cooley MaintainerEmail: npc19 at pitt.edu git_url: https://git.bioconductor.org/packages/AssessORFData git_branch: RELEASE_3_22 git_last_commit: 2cd0c9f git_last_commit_date: 2025-10-29 10:00:56 -0500 (Wed, 29 Oct 2025)