Package: AmpAffyExample Version: 1.50.0 Maintainer: Robert D Shear MaintainerEmail: rshear at ds.dfci.harvard.edu git_url: https://git.bioconductor.org/packages/AmpAffyExample git_branch: RELEASE_3_22 git_last_commit: ae15c93 git_last_commit_date: 2025-10-29 09:23:16 -0400 (Wed, 29 Oct 2025)