Package: Affymoe4302Expr Version: 1.48.0 Command: /home/biocbuild/bbs-3.22-bioc/R/bin/R CMD INSTALL Affymoe4302Expr StartedAt: 2025-11-11 10:55:16 -0500 (Tue, 11 Nov 2025) EndedAt: 2025-11-11 10:55:17 -0500 (Tue, 11 Nov 2025) EllapsedTime: 1.6 seconds RetCode: 0 Status: OK