Package: Affyhgu133Plus2Expr Version: 1.44.0 Command: /home/biocbuild/bbs-3.22-bioc/R/bin/R CMD build --keep-empty-dirs --no-resave-data Affyhgu133Plus2Expr StartedAt: 2025-10-30 11:11:42 -0400 (Thu, 30 Oct 2025) EndedAt: 2025-10-30 11:12:01 -0400 (Thu, 30 Oct 2025) EllapsedTime: 19.1 seconds RetCode: 0 Status: OK PackageFile: Affyhgu133Plus2Expr_1.44.0.tar.gz PackageFileSize: 224.4 MiB