Package: AWAggregatorData Version: 0.99.4 Command: /home/biocbuild/bbs-3.22-bioc/R/bin/R CMD INSTALL AWAggregatorData StartedAt: 2025-10-09 10:57:05 -0400 (Thu, 09 Oct 2025) EndedAt: 2025-10-09 10:57:19 -0400 (Thu, 09 Oct 2025) EllapsedTime: 14.1 seconds RetCode: 0 Status: OK