Package: ARRmData Version: 1.46.0 Command: /home/biocbuild/bbs-3.22-bioc/R/bin/R CMD INSTALL ARRmData StartedAt: 2025-10-30 10:55:39 -0400 (Thu, 30 Oct 2025) EndedAt: 2025-10-30 10:55:42 -0400 (Thu, 30 Oct 2025) EllapsedTime: 2.5 seconds RetCode: 0 Status: OK