Package: ARRmData Version: 1.46.0 Command: /home/biocbuild/bbs-3.22-bioc/R/bin/R CMD build --keep-empty-dirs --no-resave-data ARRmData StartedAt: 2025-10-30 11:11:50 -0400 (Thu, 30 Oct 2025) EndedAt: 2025-10-30 11:11:56 -0400 (Thu, 30 Oct 2025) EllapsedTime: 5.9 seconds RetCode: 0 Status: OK PackageFile: ARRmData_1.46.0.tar.gz PackageFileSize: 56.51 MiB