Welcome to mirrors.dotsrc.org

All our mirrors of open source software are available via http, https, ftp and an onion service. More information about our mirrors including statistics and contact information is available on our mirror info pages.

For information about dotsrc.org and our other services please go to our website.

Index of /bioconductor/checkResults/3.22/data-experiment-LATEST/

File Name  ↓ File Size  ↓ Date  ↓ 
--
-2025-10-30 19:35:59
-2025-10-30 19:35:59
-2025-10-30 19:35:59
-2025-10-30 19:35:59
-2025-10-30 19:35:59
-2025-10-30 19:35:58
-2025-10-30 19:35:59
-2025-10-30 19:35:58
-2025-10-30 19:35:59
-2025-10-30 19:35:59
-2025-10-30 19:35:59
-2025-10-30 19:35:59
-2025-10-30 19:35:59
-2025-10-30 19:35:59
-2025-10-30 19:35:59
-2025-10-30 19:35:59
-2025-10-30 19:35:59
-2025-10-30 19:35:59
-2025-10-30 19:35:59
-2025-10-30 19:35:59
-2025-10-30 19:35:59
-2025-10-30 19:35:59
-2025-10-30 19:35:59
-2025-10-30 19:35:59
-2025-10-30 19:35:59
-2025-10-30 19:35:59
-2025-10-30 19:35:59
-2025-10-30 19:35:59
-2025-10-30 19:35:59
-2025-10-30 19:35:59
-2025-10-30 19:35:59
-2025-10-30 19:35:59
-2025-10-30 19:35:59
-2025-10-30 19:35:59
-2025-10-30 19:35:59
-2025-10-30 19:35:59
-2025-10-30 19:35:59
-2025-10-30 19:35:59
-2025-10-30 19:35:59
-2025-10-30 19:35:59
-2025-10-30 19:35:59
-2025-10-30 19:35:59
-2025-10-30 19:35:59
-2025-10-30 19:35:59
-2025-10-30 19:35:59
-2025-10-30 19:35:59
-2025-10-30 19:35:59
-2025-10-30 19:35:59
-2025-10-30 19:35:59
-2025-10-30 19:35:59
-2025-10-30 19:35:59
-2025-10-30 19:35:59
-2025-10-30 19:35:59
-2025-10-30 19:35:59
-2025-10-30 19:35:59
-2025-10-30 19:35:59
-2025-10-30 19:35:59
-2025-10-30 19:35:59
-2025-10-30 19:35:59
-2025-10-30 19:35:59
-2025-10-30 19:35:59
-2025-10-30 19:35:59
-2025-10-30 19:35:59
-2025-10-30 19:35:59
-2025-10-30 19:35:59
-2025-10-30 19:35:59
-2025-10-30 19:35:59
-2025-10-30 19:35:59
-2025-10-30 19:35:59
-2025-10-30 19:35:59
-2025-10-30 19:35:59
-2025-10-30 19:35:59
-2025-10-30 19:35:59
-2025-10-30 19:35:59
-2025-10-30 19:35:59
-2025-10-30 19:35:59
-2025-10-30 19:35:59
-2025-10-30 19:35:59
-2025-10-30 19:35:59
-2025-10-30 19:35:59
-2025-10-30 19:35:59
-2025-10-30 19:35:59
-2025-10-30 19:35:59
-2025-10-30 19:35:59
-2025-10-30 19:35:59
-2025-10-30 19:35:59
-2025-10-30 19:35:59
-2025-10-30 19:35:59
-2025-10-30 19:35:59
-2025-10-30 19:35:59
-2025-10-30 19:35:59
-2025-10-30 19:35:59
-2025-10-30 19:35:59
-2025-10-30 19:35:59
-2025-10-30 19:35:59
-2025-10-30 19:35:59
-2025-10-30 19:35:59
-2025-10-30 19:35:59
-2025-10-30 19:35:59
-2025-10-30 19:35:59
-2025-10-30 19:35:59
-2025-10-30 19:35:59
-2025-10-30 19:35:59
-2025-10-30 19:35:59
-2025-10-30 19:35:59
-2025-10-30 19:35:59
-2025-10-30 19:35:59
-2025-10-30 19:35:59
-2025-10-30 19:35:59
-2025-10-30 19:35:59
-2025-10-30 19:35:59
-2025-10-30 19:35:59
-2025-10-30 19:35:59
-2025-10-30 19:35:59
-2025-10-30 19:35:59
-2025-10-30 19:35:59
-2025-10-30 19:35:59
-2025-10-30 19:35:59
-2025-10-30 19:35:59
-2025-10-30 19:35:59
-2025-10-30 19:35:59
-2025-10-30 19:35:59
-2025-10-30 19:35:59
-2025-10-30 19:35:59
-2025-10-30 19:35:59
-2025-10-30 19:35:59
-2025-10-30 19:35:59
-2025-10-30 19:35:59
-2025-10-30 19:35:59
-2025-10-30 19:35:59
-2025-10-30 19:35:59
-2025-10-30 19:35:59
-2025-10-30 19:35:59
-2025-10-30 19:35:59
-2025-10-30 19:35:59
-2025-10-30 19:35:59
-2025-10-30 19:35:59
-2025-10-30 19:35:59
-2025-10-30 19:35:59
-2025-10-30 19:35:59
-2025-10-30 19:35:59
-2025-10-30 19:35:59
-2025-10-30 19:35:59
-2025-10-30 19:35:59
-2025-10-30 19:35:59
-2025-10-30 19:35:59
-2025-10-30 19:35:59
-2025-10-30 19:35:59
-2025-10-30 19:35:59
-2025-10-30 19:35:59
-2025-10-30 19:35:59
-2025-10-30 19:35:59
-2025-10-30 19:35:59
-2025-10-30 19:35:59
-2025-10-30 19:35:59
-2025-10-30 19:35:59
-2025-10-30 19:35:59
-2025-10-30 19:35:59
-2025-10-30 19:35:59
-2025-10-30 19:35:59
-2025-10-30 19:35:59
-2025-10-30 19:35:59
-2025-10-30 19:35:59
-2025-10-30 19:35:59
-2025-10-30 19:35:59
-2025-10-30 19:35:59
-2025-10-30 19:35:59
-2025-10-30 19:35:59
-2025-10-30 19:35:59
-2025-10-30 19:35:59
-2025-10-30 19:35:59
-2025-10-30 19:35:59
-2025-10-30 19:35:59
-2025-10-30 19:35:59
-2025-10-30 19:35:59
-2025-10-30 19:35:59
-2025-10-30 19:35:59
-2025-10-30 19:35:59
-2025-10-30 19:35:59
-2025-10-30 19:35:59
-2025-10-30 19:35:59
-2025-10-30 19:35:59
-2025-10-30 19:35:59
-2025-10-30 19:35:59
-2025-10-30 19:35:59
-2025-10-30 19:35:59
-2025-10-30 19:35:59
-2025-10-30 19:35:59
-2025-10-30 19:35:59
-2025-10-30 19:35:59
-2025-10-30 19:35:59
-2025-10-30 19:35:59
-2025-10-30 19:35:59
-2025-10-30 19:35:59
-2025-10-30 19:35:59
-2025-10-30 19:35:59
-2025-10-30 19:35:59
-2025-10-30 19:35:59
-2025-10-30 19:35:59
-2025-10-30 19:35:59
-2025-10-30 19:35:59
-2025-10-30 19:35:59
-2025-10-30 19:35:59
-2025-10-30 19:35:59
-2025-10-30 19:35:59
-2025-10-30 19:35:59
-2025-10-30 19:35:59
-2025-10-30 19:35:59
-2025-10-30 19:35:59
-2025-10-30 19:35:59
-2025-10-30 19:35:59
-2025-10-30 19:35:59
-2025-10-30 19:35:59
-2025-10-30 19:35:59
-2025-10-30 19:35:59
-2025-10-30 19:35:59
-2025-10-30 19:35:59
-2025-10-30 19:35:59
-2025-10-30 19:35:59
-2025-10-30 19:35:59
-2025-10-30 19:35:59
-2025-10-30 19:35:59
-2025-10-30 19:35:59
-2025-10-30 19:35:59
-2025-10-30 19:35:59
-2025-10-30 19:35:59
-2025-10-30 19:35:59
-2025-10-30 19:35:59
-2025-10-30 19:35:59
-2025-10-30 19:35:59
-2025-10-30 19:35:58
-2025-10-30 19:35:58
-2025-10-30 19:35:58
-2025-10-30 19:35:59
-2025-10-30 19:35:59
-2025-10-30 19:35:59
-2025-10-30 19:35:59
-2025-10-30 19:35:59
-2025-04-08 19:35:03
-2025-10-30 19:35:59
-2025-10-30 19:35:59
-2025-10-30 19:35:59
-2025-10-30 19:35:59
-2025-10-30 19:35:59
-2025-10-30 19:35:59
-2025-10-30 19:35:59
-2025-10-30 19:35:59
-2025-10-30 19:35:59
-2025-10-30 19:35:59
-2025-10-30 19:35:59
-2025-10-30 19:35:59
-2025-10-30 19:35:59
-2025-10-30 19:35:59
-2025-10-30 19:35:59
-2025-10-30 19:35:59
-2025-10-30 19:35:59
-2025-10-30 19:35:59
-2025-10-30 19:35:59
-2025-10-30 19:35:59
-2025-10-30 19:35:59
-2025-10-30 19:35:59
-2025-10-30 19:35:59
-2025-10-30 19:35:59
-2025-10-30 19:35:59
-2025-10-30 19:35:59
-2025-10-30 19:35:59
-2025-10-30 19:35:59
-2025-10-30 19:35:59
-2025-10-30 19:35:59
-2025-10-30 19:35:59
-2025-10-30 19:35:59
-2025-10-30 19:35:59
-2025-10-30 19:35:59
-2025-10-30 19:35:59
-2025-10-30 19:35:59
-2025-10-30 19:35:59
-2025-10-30 19:35:59
-2025-10-30 19:35:59
-2025-10-30 19:35:59
-2025-10-30 19:35:59
-2025-10-30 19:35:59
-2025-10-30 19:35:59
-2025-10-30 19:35:59
-2025-10-30 19:35:59
-2025-10-30 19:35:59
-2025-10-30 19:35:59
-2025-10-30 19:35:59
-2025-10-30 19:35:59
-2025-10-30 19:35:59
-2025-10-30 19:35:59
-2025-10-30 19:35:59
-2025-10-30 19:35:59
-2025-10-30 19:35:59
-2025-10-30 19:35:59
-2025-10-30 19:35:59
-2025-10-30 19:35:59
-2025-10-30 19:35:59
-2025-10-30 19:35:59
-2025-10-30 19:35:59
-2025-10-30 19:35:59
-2025-10-30 19:35:59
-2025-10-30 19:35:59
-2025-10-30 19:35:59
-2025-10-30 19:35:59
-2025-10-30 19:35:59
-2025-10-30 19:35:59
-2025-10-30 19:35:59
-2025-10-30 19:35:59
-2025-10-30 19:35:59
-2025-10-30 19:35:59
-2025-10-30 19:35:59
-2025-10-30 19:35:59
-2025-10-30 19:35:59
-2025-10-30 19:35:59
-2025-10-30 19:35:59
-2025-10-30 19:35:59
-2025-10-30 19:35:59
-2025-10-30 19:35:59
-2025-10-30 19:35:59
-2025-10-30 19:35:59
-2025-10-30 19:35:59
-2025-10-30 19:35:59
-2025-10-30 19:35:59
-2025-10-30 19:35:59
-2025-10-30 19:35:59
-2025-10-30 19:35:59
-2025-10-30 19:35:59
-2025-10-30 19:35:59
-2025-10-30 19:35:59
-2025-10-30 19:35:59
-2025-10-30 19:35:59
-2025-10-30 19:35:59
-2025-10-30 19:35:59
-2025-10-30 19:35:59
-2025-10-30 19:35:59
-2025-10-30 19:35:59
-2025-10-30 19:35:59
-2025-10-30 19:35:59
-2025-10-30 19:35:59
-2025-10-30 19:35:59
-2025-10-30 19:35:59
-2025-10-30 19:35:59
-2025-10-30 19:35:59
-2025-10-30 19:35:59
-2025-10-30 19:35:59
-2025-10-30 19:35:59
-2025-10-30 19:35:59
-2025-10-30 19:35:59
-2025-10-30 19:35:59
-2025-10-30 19:35:59
-2025-10-30 19:35:59
-2025-10-30 19:35:59
-2025-10-30 19:35:59
-2025-10-30 19:35:59
-2025-10-30 19:35:59
-2025-10-30 19:35:59
-2025-10-30 19:35:59
-2025-10-30 19:35:59
-2025-10-30 19:35:59
-2025-10-30 19:35:59
-2025-10-30 19:35:59
-2025-10-30 19:35:59
-2025-10-30 19:35:59
-2025-10-30 19:35:59
-2025-10-30 19:35:59
-2025-10-30 19:35:59
-2025-10-30 19:35:59
-2025-10-30 19:35:59
-2025-10-30 19:35:59
-2025-10-30 19:35:59
-2025-10-30 19:35:59
-2025-10-30 19:35:59
-2025-10-30 19:35:59
-2025-10-30 19:35:59
-2025-10-30 19:35:59
-2025-10-30 19:35:59
-2025-10-30 19:35:59
-2025-04-08 19:35:04
-2025-10-30 19:35:59
-2025-10-30 19:35:59
-2025-10-30 19:35:59
-2025-10-30 19:35:59
-2025-10-30 19:35:59
-2025-10-30 19:35:59
-2025-10-30 19:35:59
-2025-10-30 19:35:59
-2025-10-30 19:35:59
-2025-10-30 19:35:59
-2025-10-30 19:35:59
-2025-10-30 19:35:59
-2025-10-30 19:35:59
-2025-10-30 19:35:59
-2025-10-30 19:35:59
-2025-10-30 19:35:59
-2025-10-30 19:35:59
-2025-10-30 19:35:59
-2025-10-30 19:35:59
-2025-10-30 19:35:59
-2025-10-30 19:35:59
-2025-10-30 19:35:59
-2025-10-30 19:35:59
-2025-10-30 19:35:59
-2025-10-30 19:35:59
-2025-10-30 19:35:59
-2025-10-30 19:35:59
-2025-10-30 19:35:59
-2025-10-30 19:35:59
-2025-10-30 19:35:59
-2025-10-30 19:35:59
-2025-10-30 19:35:59
-2025-10-30 19:35:59
-2025-10-30 19:35:59
-2025-10-30 19:35:59
-2025-10-30 19:35:59
-2025-10-30 19:35:59
-2025-10-30 19:35:59
-2025-10-30 19:35:59
-2025-10-30 19:35:59
-2025-04-08 19:35:04
-2025-10-30 19:35:59
-2025-10-30 19:35:59
-2025-10-30 19:35:59
-2025-10-30 19:35:59
-2025-10-30 19:35:59
-2025-10-30 19:35:59
-2025-10-30 19:35:59
-2025-10-30 19:35:59
-2025-10-30 19:35:59
-2025-10-30 19:35:59
-2025-10-30 19:35:59
-2025-10-30 19:35:59
-2025-10-30 19:35:59
-2025-10-30 19:35:59
-2025-10-30 19:35:59
-2025-10-30 19:35:59
-2025-10-30 19:35:59
-2025-10-30 19:35:59
-2025-10-30 19:35:59
7.1 KiB2025-10-30 19:35:58
7.1 KiB2025-10-30 19:35:58
7.0 KiB2025-10-30 19:35:58
46.9 KiB2025-10-30 19:35:58
2.6 KiB2025-10-30 19:35:58
2.1 KiB2025-10-30 19:35:58
3.3 KiB2025-10-30 19:35:58
477.2 KiB2025-10-30 19:35:59
46.8 KiB2025-10-30 19:35:58
7.4 KiB2025-10-30 19:35:58
537.0 KiB2025-10-30 19:35:58
11.9 KiB2025-10-30 19:35:58
6.0 KiB2025-10-30 19:35:58
628.2 KiB2025-10-30 19:36:01
0 B2025-10-30 19:35:58