Package: metaboliteIDmapping Version: 0.99.11 Command: /home/biocbuild/bbs-3.22-bioc/R/bin/R CMD INSTALL metaboliteIDmapping StartedAt: 2025-10-08 05:55:11 -0400 (Wed, 08 Oct 2025) EndedAt: 2025-10-08 05:56:02 -0400 (Wed, 08 Oct 2025) EllapsedTime: 50.9 seconds RetCode: 0 Status: OK