Package: metaboliteIDmapping Version: 0.99.11 Command: /home/biocbuild/bbs-3.22-bioc/R/bin/R CMD build --keep-empty-dirs --no-resave-data metaboliteIDmapping StartedAt: 2025-10-08 05:57:14 -0400 (Wed, 08 Oct 2025) EndedAt: 2025-10-08 05:58:35 -0400 (Wed, 08 Oct 2025) EllapsedTime: 81.0 seconds RetCode: 0 Status: OK PackageFile: metaboliteIDmapping_0.99.11.tar.gz PackageFileSize: 312.4 KiB