Package: cadd.v1.6.hg38 Version: 3.18.1 Command: /home/biocbuild/bbs-3.22-bioc/R/bin/R CMD INSTALL cadd.v1.6.hg38 StartedAt: 2025-10-08 05:55:28 -0400 (Wed, 08 Oct 2025) EndedAt: 2025-10-08 05:55:47 -0400 (Wed, 08 Oct 2025) EllapsedTime: 19.4 seconds RetCode: 0 Status: OK