Package: cadd.v1.6.hg19 Version: 3.18.1 Command: /home/biocbuild/bbs-3.22-bioc/R/bin/R CMD INSTALL cadd.v1.6.hg19 StartedAt: 2025-10-08 05:55:16 -0400 (Wed, 08 Oct 2025) EndedAt: 2025-10-08 05:55:36 -0400 (Wed, 08 Oct 2025) EllapsedTime: 20.1 seconds RetCode: 0 Status: OK