Package: alternativeSplicingEvents.hg19 Version: 1.1.0 Command: /home/biocbuild/bbs-3.22-bioc/R/bin/R CMD INSTALL alternativeSplicingEvents.hg19 StartedAt: 2025-10-08 05:55:16 -0400 (Wed, 08 Oct 2025) EndedAt: 2025-10-08 05:55:27 -0400 (Wed, 08 Oct 2025) EllapsedTime: 11.3 seconds RetCode: 0 Status: OK