Package: UniProtKeywords Version: 0.99.7 Command: /home/biocbuild/bbs-3.22-bioc/R/bin/R CMD build --keep-empty-dirs --no-resave-data UniProtKeywords StartedAt: 2025-10-08 05:57:43 -0400 (Wed, 08 Oct 2025) EndedAt: 2025-10-08 05:57:48 -0400 (Wed, 08 Oct 2025) EllapsedTime: 4.3 seconds RetCode: 0 Status: OK PackageFile: UniProtKeywords_0.99.7.tar.gz PackageFileSize: 1.209 MiB