Package: JASPAR2020 Version: 0.99.8 Command: /home/biocbuild/bbs-3.22-bioc/R/bin/R CMD INSTALL JASPAR2020 StartedAt: 2025-10-29 05:55:07 -0400 (Wed, 29 Oct 2025) EndedAt: 2025-10-29 05:55:10 -0400 (Wed, 29 Oct 2025) EllapsedTime: 2.8 seconds RetCode: 0 Status: OK