Package: EuPathDB Version: 1.0.1 Command: /home/biocbuild/bbs-3.22-bioc/R/bin/R CMD INSTALL EuPathDB StartedAt: 2025-10-08 05:55:25 -0400 (Wed, 08 Oct 2025) EndedAt: 2025-10-08 05:56:07 -0400 (Wed, 08 Oct 2025) EllapsedTime: 41.6 seconds RetCode: 0 Status: OK