Package: EuPathDB Version: 1.0.1 Command: /home/biocbuild/bbs-3.22-bioc/R/bin/R CMD build --keep-empty-dirs --no-resave-data EuPathDB StartedAt: 2025-10-08 05:56:38 -0400 (Wed, 08 Oct 2025) EndedAt: 2025-10-08 05:57:34 -0400 (Wed, 08 Oct 2025) EllapsedTime: 56.1 seconds RetCode: 1 Status: ERROR PackageFile: None PackageFileSize: NA