Package: ENCODExplorerData Version: 0.99.5 Command: /home/biocbuild/bbs-3.22-bioc/R/bin/R CMD INSTALL ENCODExplorerData StartedAt: 2025-10-08 05:55:08 -0400 (Wed, 08 Oct 2025) EndedAt: 2025-10-08 05:55:11 -0400 (Wed, 08 Oct 2025) EllapsedTime: 3.1 seconds RetCode: 0 Status: OK