Package: ENCODExplorerData Version: 0.99.5 Command: /home/biocbuild/bbs-3.22-bioc/R/bin/R CMD build --keep-empty-dirs --no-resave-data ENCODExplorerData StartedAt: 2025-10-08 05:56:24 -0400 (Wed, 08 Oct 2025) EndedAt: 2025-10-08 05:56:29 -0400 (Wed, 08 Oct 2025) EllapsedTime: 5.6 seconds RetCode: 0 Status: OK PackageFile: ENCODExplorerData_0.99.5.tar.gz PackageFileSize: 229.5 KiB