Package: CTCF Version: 0.99.12 Command: /home/biocbuild/bbs-3.22-bioc/R/bin/R CMD INSTALL CTCF StartedAt: 2025-11-19 05:55:08 -0500 (Wed, 19 Nov 2025) EndedAt: 2025-11-19 05:55:10 -0500 (Wed, 19 Nov 2025) EllapsedTime: 2.3 seconds RetCode: 0 Status: OK