Package: CTCF Version: 0.99.12 Command: /home/biocbuild/bbs-3.22-bioc/R/bin/R CMD build --keep-empty-dirs --no-resave-data CTCF StartedAt: 2025-11-19 05:56:29 -0500 (Wed, 19 Nov 2025) EndedAt: 2025-11-19 05:57:10 -0500 (Wed, 19 Nov 2025) EllapsedTime: 41.7 seconds RetCode: 1 Status: ERROR PackageFile: None PackageFileSize: NA