Package: CENTREannotation Version: 0.99.1 Command: /home/biocbuild/bbs-3.22-bioc/R/bin/R CMD INSTALL CENTREannotation StartedAt: 2025-10-15 05:55:18 -0400 (Wed, 15 Oct 2025) EndedAt: 2025-10-15 05:55:31 -0400 (Wed, 15 Oct 2025) EllapsedTime: 13.1 seconds RetCode: 0 Status: OK