Package: CENTREannotation Version: 0.99.1 Command: /home/biocbuild/bbs-3.22-bioc/R/bin/R CMD build --keep-empty-dirs --no-resave-data CENTREannotation StartedAt: 2025-10-15 05:56:16 -0400 (Wed, 15 Oct 2025) EndedAt: 2025-10-15 05:56:43 -0400 (Wed, 15 Oct 2025) EllapsedTime: 27.3 seconds RetCode: 0 Status: OK PackageFile: CENTREannotation_0.99.1.tar.gz PackageFileSize: 221.7 KiB