Package: methylationArrayAnalysis Version: 1.32.0 Command: /home/biocbuild/bbs-3.21-bioc/R/bin/R CMD INSTALL methylationArrayAnalysis StartedAt: 2025-10-14 13:00:48 -0400 (Tue, 14 Oct 2025) EndedAt: 2025-10-14 13:04:35 -0400 (Tue, 14 Oct 2025) EllapsedTime: 227.3 seconds RetCode: 0 Status: OK