Package: csawUsersGuide Version: 1.24.0 Command: /Library/Frameworks/R.framework/Resources/bin/R CMD build --keep-empty-dirs --no-resave-data csawUsersGuide StartedAt: 2025-10-14 13:10:21 -0400 (Tue, 14 Oct 2025) EndedAt: 2025-10-14 13:10:38 -0400 (Tue, 14 Oct 2025) EllapsedTime: 16.7 seconds RetCode: 0 Status: OK PackageFile: csawUsersGuide_1.24.0.tar.gz PackageFileSize: 35.75 KiB