Package: ExpressionNormalizationWorkflow Version: 1.34.0 Command: /home/biocbuild/bbs-3.21-bioc/R/bin/R CMD build --keep-empty-dirs --no-resave-data ExpressionNormalizationWorkflow StartedAt: 2025-10-14 13:04:47 -0400 (Tue, 14 Oct 2025) EndedAt: 2025-10-14 13:10:16 -0400 (Tue, 14 Oct 2025) EllapsedTime: 329.1 seconds RetCode: 0 Status: OK PackageFile: ExpressionNormalizationWorkflow_1.34.0.tar.gz PackageFileSize: 3.419 MiB