Package: ExpressionNormalizationWorkflow Version: 1.34.0 Command: /Library/Frameworks/R.framework/Resources/bin/R CMD INSTALL ExpressionNormalizationWorkflow StartedAt: 2025-10-14 13:01:20 -0400 (Tue, 14 Oct 2025) EndedAt: 2025-10-14 13:02:30 -0400 (Tue, 14 Oct 2025) EllapsedTime: 70.1 seconds RetCode: 0 Status: OK