Package: ExpressionNormalizationWorkflow Version: 1.34.0 Command: /Library/Frameworks/R.framework/Resources/bin/R CMD build --keep-empty-dirs --no-resave-data ExpressionNormalizationWorkflow StartedAt: 2025-10-14 13:10:39 -0400 (Tue, 14 Oct 2025) EndedAt: 2025-10-14 13:31:54 -0400 (Tue, 14 Oct 2025) EllapsedTime: 1275.3 seconds RetCode: 0 Status: OK PackageFile: ExpressionNormalizationWorkflow_1.34.0.tar.gz PackageFileSize: 3.353 MiB