Package: spatialDmelxsim Version: 1.14.0 Command: /home/biocbuild/bbs-3.21-bioc/R/bin/R CMD build --keep-empty-dirs --no-resave-data spatialDmelxsim StartedAt: 2025-09-30 11:40:14 -0400 (Tue, 30 Sep 2025) EndedAt: 2025-09-30 11:41:00 -0400 (Tue, 30 Sep 2025) EllapsedTime: 45.8 seconds RetCode: 0 Status: OK PackageFile: spatialDmelxsim_1.14.0.tar.gz PackageFileSize: 890.7 KiB