Package: scanMiRData Version: 1.14.0 Command: /home/biocbuild/bbs-3.21-bioc/R/bin/R CMD INSTALL scanMiRData StartedAt: 2025-10-16 10:58:45 -0400 (Thu, 16 Oct 2025) EndedAt: 2025-10-16 10:59:00 -0400 (Thu, 16 Oct 2025) EllapsedTime: 14.9 seconds RetCode: 0 Status: OK