Package: scRNAseq Version: 2.22.0 Command: /home/biocbuild/bbs-3.21-bioc/R/bin/R CMD INSTALL scRNAseq StartedAt: 2025-10-16 11:02:07 -0400 (Thu, 16 Oct 2025) EndedAt: 2025-10-16 11:02:50 -0400 (Thu, 16 Oct 2025) EllapsedTime: 42.7 seconds RetCode: 0 Status: OK