Package: scRNAseq Version: 2.22.0 Command: /home/biocbuild/bbs-3.21-bioc/R/bin/R CMD build --keep-empty-dirs --no-resave-data scRNAseq StartedAt: 2025-10-16 11:38:34 -0400 (Thu, 16 Oct 2025) EndedAt: 2025-10-16 11:39:43 -0400 (Thu, 16 Oct 2025) EllapsedTime: 69.6 seconds RetCode: 0 Status: OK PackageFile: scRNAseq_2.22.0.tar.gz PackageFileSize: 304.3 KiB