Package: pumadata Version: 2.44.0 Command: /home/biocbuild/bbs-3.21-bioc/R/bin/R CMD INSTALL pumadata StartedAt: 2025-10-16 11:03:50 -0400 (Thu, 16 Oct 2025) EndedAt: 2025-10-16 11:04:19 -0400 (Thu, 16 Oct 2025) EllapsedTime: 28.9 seconds RetCode: 0 Status: OK